BEGIN:VCALENDAR
VERSION:2.0
PRODID:-//eventon.com NONSGML v1.0//EN
BEGIN:VEVENT
UID:69e6df70ab3e2
DTSTAMP:20260421T042240
DTSTART:20220113T160000Z
DTEND:20220113T210000Z
LOCATION:
SUMMARY:Łódź - 13.01.2022r - szkolenie - Michał Łukaszewski Okazjonalny. info
DESCRIPTION: Łódź - 13.01.2022r - szkolenie - Michał Łukaszewski Okazjonalny. info
URL:https://mieszkanicznik.org.pl/events/lodz-13-01-2022r-szkolenie-michal-lukaszewski-okazjonalny-info/
END:VEVENT
END:VCALENDAR