BEGIN:VCALENDAR
VERSION:2.0
PRODID:-//eventon.com NONSGML v1.0//EN
BEGIN:VEVENT
UID:69e72c36ca235
DTSTAMP:20260421T095014
DTSTART:20220127T160000Z
DTEND:20220127T213000Z
LOCATION:
SUMMARY:Białystok - 27.01.2022 - Michał Łukaszewski
DESCRIPTION: Białystok - 27.01.2022 - Michał Łukaszewski
URL:https://mieszkanicznik.org.pl/events/bialystok-27-01-2022-michal-lukaszewski/
END:VEVENT
END:VCALENDAR