BEGIN:VCALENDAR
VERSION:2.0
PRODID:-//eventon.com NONSGML v1.0//EN
BEGIN:VEVENT
UID:69e72b0e5ead5
DTSTAMP:20260421T094518
DTSTART:20220110T154500Z
DTEND:20220110T190000Z
LOCATION:
SUMMARY:Szczecin 10.01.2022 - Czy zakup nieruchomości kredytem hipotecznym może być jeszcze opłacalny?
DESCRIPTION: Szczecin 10.01.2022 - Czy zakup nieruchomości kredytem hipotecznym może być jeszcze opłacalny?
URL:https://mieszkanicznik.org.pl/events/szczecin-10-01-2022-czy-zakup-nieruchomosci-kredytem-hipotecznym-moze-byc-jeszcze-oplacalny/
END:VEVENT
END:VCALENDAR