BEGIN:VCALENDAR
VERSION:2.0
PRODID:-//eventon.com NONSGML v1.0//EN
BEGIN:VEVENT
UID:69e6d1e14f900
DTSTAMP:20260421T032449
DTSTART:20220419T100000Z
DTEND:20220419T110000Z
LOCATION:
SUMMARY:DYŻUR - PATRYCJA KRUŻEWSKA- 12:00 - 13:00 - UMOWA NAJMU\,  NAJEM OKAZJONALNY\,  ZABEZPIECZANIE PRAW WŁAŚCICIELI
DESCRIPTION: DYŻUR - PATRYCJA KRUŻEWSKA- 12:00 - 13:00 - UMOWA NAJMU\,  NAJEM OKAZJONALNY\,  ZABEZPIECZANIE PRAW WŁAŚCICIELI
URL:https://mieszkanicznik.org.pl/events/dyzur-patrycja-kruzewska-1200-1300-umowa-najmu-najem-okazjonalny-zabezpieczanie-praw-wlascicieli/var/ri-15.l-L1
END:VEVENT
END:VCALENDAR