BEGIN:VCALENDAR
VERSION:2.0
PRODID:-//eventon.com NONSGML v1.0//EN
BEGIN:VEVENT
UID:69e80f6c1d073
DTSTAMP:20260422T015940
DTSTART:20220406T100000Z
DTEND:20220406T120000Z
LOCATION:
SUMMARY:Dyżur - Tomasz Burcon - 12:00-14:00 - fotografia\,  najem krótkoterminowy\,  www
DESCRIPTION: Dyżur - Tomasz Burcon - 12:00-14:00 - fotografia\,  najem krótkoterminowy\,  www
URL:https://mieszkanicznik.org.pl/events/dyzur-tomasz-burcon-1200-1400-fotografia-najem-krotkoterminowy-www-2/var/ri-13.l-L1
END:VEVENT
END:VCALENDAR