BEGIN:VCALENDAR
VERSION:2.0
PRODID:-//eventon.com NONSGML v1.0//EN
BEGIN:VEVENT
UID:69e629791ffc5
DTSTAMP:20260420T152617
DTSTART:20211210T160000Z
DTEND:20211210T200000Z
LOCATION:
SUMMARY:Olsztyn- 10.12.2021 Świąteczne spotkanie networkingowe
DESCRIPTION: Olsztyn- 10.12.2021 Świąteczne spotkanie networkingowe
URL:https://mieszkanicznik.org.pl/events/olsztyn-10-12-2021-swiateczne-spotkanie-networkingowe/
END:VEVENT
END:VCALENDAR