BEGIN:VCALENDAR
VERSION:2.0
PRODID:-//eventon.com NONSGML v1.0//EN
BEGIN:VEVENT
UID:69e60e2272dd9
DTSTAMP:20260420T132938
DTSTART:19691231T220000Z
DTEND:19691231T220000Z
LOCATION:
SUMMARY:2.11.2021 szkolenie online: Jak Polski Ład wpłynie na inwestorów i przedsiębiorców w branży nieruchomości
DESCRIPTION: W naszej społeczności trąbi się\,  że idą ZMIANY W PODATKACH. Niestety większość idzie w kierunku\,  który dla nas przedsiębiorców i inwestorów w nieruchomości nie jest najlepszym rozwiązaniem .  W 2022 roku sporo tych zmian się szykuje i trzeba będzie mieć skuteczne rozwiązania\,  żeby pieniądze zostały w naszych kieszeniach\,  zamiast w wielkim kotle pseudo rządzących. Jak to najlepiej[..]
URL:https://mieszkanicznik.org.pl/2-11-2021-szkolenie-online-jak-polski-lad-wplynie-na-inwestorow-i-przedsiebiorcow-w-branzy-nieruchomosci/
END:VEVENT
END:VCALENDAR