BEGIN:VCALENDAR
VERSION:2.0
PRODID:-//eventon.com NONSGML v1.0//EN
BEGIN:VEVENT
UID:69e61f61a6c53
DTSTAMP:20260420T144313
DTSTART:20211007T153000Z
DTEND:20211007T210000Z
LOCATION:
SUMMARY:Częstochowa - 07.10.2021 - szkolenie - Jak pływać z nieruchomościami\,  żeby nie popłynąć? Radosław Rup
DESCRIPTION: Częstochowa - 07.10.2021 - szkolenie - Jak pływać z nieruchomościami\,  żeby nie popłynąć? Radosław Rup
URL:https://mieszkanicznik.org.pl/events/czestochowa-07-10-2021-szkolenie-jak-plywac-z-nieruchomosciami-zeby-nie-poplynac-radoslaw-rup/
END:VEVENT
END:VCALENDAR