BEGIN:VCALENDAR
VERSION:2.0
PRODID:-//eventon.com NONSGML v1.0//EN
BEGIN:VEVENT
UID:69e61f31a5a85
DTSTAMP:20260420T144225
DTSTART:19691231T220000Z
DTEND:19691231T220000Z
LOCATION:
SUMMARY:Częstochowa - 07.10.2021 - szkolenie - Jak pływać z nieruchomościami\,  żeby nie popłynąć? Radosław Rup
DESCRIPTION: Zapraszamy na merytoryczne szkolenie częstochowskiego oddziału Stowarzyszenia Mieszkanicznik w czwartek 7 października\,  zbieramy się już od godz. 17:30 na salce wykładowej Strefy Karier przy Al. NMP 2a (parter). Temat: Jak pływać z nieruchomościami\,  żeby nie popłynąć?  - Radosław Rup Jeśli chcesz dowiedzieć się jak obrać i zachować właściwy kurs żeglując do wolności[..]
URL:https://mieszkanicznik.org.pl/czestochowa-07-10-2021-szkolenie-jak-plywac-z-nieruchomosciami-zeby-nie-poplynac-radoslaw-rup/
END:VEVENT
END:VCALENDAR