BEGIN:VCALENDAR
VERSION:2.0
PRODID:-//eventon.com NONSGML v1.0//EN
BEGIN:VEVENT
UID:69e646db210b4
DTSTAMP:20260420T173139
DTSTART:19691231T220000Z
DTEND:19691231T220000Z
LOCATION:
SUMMARY:Szkolenie: Jak legalnie nabywać nieruchomości za 50% wartości lub mniej!
DESCRIPTION: Duży popyt na nieruchomości dzisiaj sprawia\,  że "dobre deale" znikają szybko z rynku. Ciężko znaleźć coś przeciętnego poniżej ceny rynkowej. "Perełki" z reguły nie trafiają na rynek i większość z nas nie ma do nich dostępu. Ale\,  ale... Co by było\,  gdybyśmy mieli wiedzę\,  jak szukać i LEGALNIE kupować różne[..]
URL:https://mieszkanicznik.org.pl/szkolenie-jak-legalnie-nabywac-nieruchomosci-za-50-wartosci-lub-mniej/
END:VEVENT
END:VCALENDAR