BEGIN:VCALENDAR
VERSION:2.0
PRODID:-//eventon.com NONSGML v1.0//EN
BEGIN:VEVENT
UID:69e69b61a3bd4
DTSTAMP:20260420T233217
DTSTART:20210513T170000Z
DTEND:20210513T193000Z
LOCATION:
SUMMARY:Szkolenie online: Jak zarobić na inwestycji w ziemię rolną
DESCRIPTION: Ci\,  którzy zajmują się nieruchomościami twierdzą\,  że GRUNT to dobra inwestycja. Trudno się z tym nie zgodzić\,  ponieważ ziemi na Ziemi nie przybędzie. Jest jej określona ilość. Wyjątkowo\,  już w najbliższy czwartek 13.05.2021r. o godzinie 19:00 Krzysztof Derdzikowski\,  ekspert od gruntów rolnych\,  opowie nam „Jak zarobić na inwestycji w ziemię rolną”.[..]
URL:https://mieszkanicznik.org.pl/events/szkolenie-online-jak-zarobic-na-inwestycji-w-ziemie-rolna/
END:VEVENT
END:VCALENDAR