BEGIN:VCALENDAR
VERSION:2.0
PRODID:-//eventon.com NONSGML v1.0//EN
BEGIN:VEVENT
UID:69e494ee52450
DTSTAMP:20260419T104014
DTSTART:20210218T160000Z
DTEND:20210218T183000Z
LOCATION:
SUMMARY:Gdańsk - 18.02.2021 - Praca pośrednika w czasie kryzysu - Basia Domarus
DESCRIPTION: &nbsp; Serdecznie zapraszamy na 96 Spotkanie Gdańskiego Oddziału Stowarzyszenia Mieszkanicznik. Szkolenie poprowadzi ekspert Basia Domarus &nbsp; &nbsp; Basia Domarus\,  Lider Gdańskiego Oddziału Stowarzyszenia Mieszkanicznik. Jest pośrednikiem w szeroko rozumianym obrocie nieruchomościami. Wsp&oacute;łpracuje z inwestorami\,  przeprowadzając ich za rękę przez cały proces: zbadanie potrzeb i możliwości\,  pomoc w uzyskaniu finansowania\,  wyb&oacute;r[..]
URL:https://mieszkanicznik.org.pl/events/kopia-gdansk-21-01-2021-rynek-nieruchomosci-w-malych-miastach-joanna-ekert/
END:VEVENT
END:VCALENDAR