BEGIN:VCALENDAR
VERSION:2.0
PRODID:-//eventon.com NONSGML v1.0//EN
BEGIN:VEVENT
UID:69e73a0280476
DTSTAMP:20260421T104906
DTSTART:20211013T130000Z
DTEND:20211013T150000Z
LOCATION:
SUMMARY:Infolinia Prawna - Sylwia Staszewska Lisiak - 15:00-17:00
DESCRIPTION: Infolinia Prawna - Sylwia Staszewska Lisiak - 15:00-17:00
URL:https://mieszkanicznik.org.pl/events/infolinia-prawna-sylwia-staszewska-lisiak-1500-1700/var/ri-39.l-L1
END:VEVENT
END:VCALENDAR