BEGIN:VCALENDAR
VERSION:2.0
PRODID:-//eventon.com NONSGML v1.0//EN
BEGIN:VEVENT
UID:69e63f18b2111
DTSTAMP:20260420T165832
DTSTART:20210714T130000Z
DTEND:20210714T150000Z
LOCATION:
SUMMARY:Infolinia Prawna - Sylwia Staszewska Lisiak - 15:00-17:00
DESCRIPTION: Infolinia Prawna - Sylwia Staszewska Lisiak - 15:00-17:00
URL:https://mieszkanicznik.org.pl/events/infolinia-prawna-sylwia-staszewska-lisiak-1500-1700/var/ri-26.l-L1
END:VEVENT
END:VCALENDAR