BEGIN:VCALENDAR
VERSION:2.0
PRODID:-//eventon.com NONSGML v1.0//EN
BEGIN:VEVENT
UID:69e5bd8839ffd
DTSTAMP:20260420T074544
DTSTART:20210526T130000Z
DTEND:20210526T150000Z
LOCATION:
SUMMARY:Infolinia Prawna - Sylwia Staszewska Lisiak - 15:00-17:00
DESCRIPTION: Infolinia Prawna - Sylwia Staszewska Lisiak - 15:00-17:00
URL:https://mieszkanicznik.org.pl/events/infolinia-prawna-sylwia-staszewska-lisiak-1500-1700/var/ri-19.l-L1
END:VEVENT
END:VCALENDAR