BEGIN:VCALENDAR
VERSION:2.0
PRODID:-//eventon.com NONSGML v1.0//EN
BEGIN:VEVENT
UID:69e559ee612b6
DTSTAMP:20260420T004046
DTSTART:20210421T130000Z
DTEND:20210421T150000Z
LOCATION:
SUMMARY:Infolinia Prawna - Sylwia Staszewska Lisiak - 15:00-17:00
DESCRIPTION: Infolinia Prawna - Sylwia Staszewska Lisiak - 15:00-17:00
URL:https://mieszkanicznik.org.pl/events/infolinia-prawna-sylwia-staszewska-lisiak-1500-1700/var/ri-14.l-L1
END:VEVENT
END:VCALENDAR