BEGIN:VCALENDAR
VERSION:2.0
PRODID:-//eventon.com NONSGML v1.0//EN
BEGIN:VEVENT
UID:69e541e7bcacb
DTSTAMP:20260419T225815
DTSTART:20210414T130000Z
DTEND:20210414T150000Z
LOCATION:
SUMMARY:Infolinia Prawna - Sylwia Staszewska Lisiak - 15:00-17:00
DESCRIPTION: Infolinia Prawna - Sylwia Staszewska Lisiak - 15:00-17:00
URL:https://mieszkanicznik.org.pl/events/infolinia-prawna-sylwia-staszewska-lisiak-1500-1700/var/ri-13.l-L1
END:VEVENT
END:VCALENDAR