BEGIN:VCALENDAR
VERSION:2.0
PRODID:-//eventon.com NONSGML v1.0//EN
BEGIN:VEVENT
UID:69e494f1e7d01
DTSTAMP:20260419T104017
DTSTART:20201020T080000Z
DTEND:20201020T110000Z
LOCATION:
SUMMARY:Dyżur - Grzegorz Grabowski- 12:00-13:00 - Podatki
DESCRIPTION: Dyżur - Grzegorz Grabowski- 12:00-13:00 - Podatki
URL:https://mieszkanicznik.org.pl/events/dyzur-grzegorz-grabowski-1200-1300-podatki/
END:VEVENT
END:VCALENDAR