BEGIN:VCALENDAR
VERSION:2.0
PRODID:-//eventon.com NONSGML v1.0//EN
BEGIN:VEVENT
UID:69e6f952114e7
DTSTAMP:20260421T061306
DTSTART:20211207T070000Z
DTEND:20211207T080000Z
LOCATION:
SUMMARY:Dyżur - Robert Kuliga - 9:00-10:00 - Najem. Projektowanie. Home-staging. Remonty
DESCRIPTION: Dyżur - Robert Kuliga - 9:00-10:00 - Najem. Projektowanie. Home-staging. Remonty
URL:https://mieszkanicznik.org.pl/events/dyzur-robert-kuliga-900-1000-najem-projektowanie-home-staging-remonty/var/ri-15.l-L1
END:VEVENT
END:VCALENDAR