BEGIN:VCALENDAR
VERSION:2.0
PRODID:-//eventon.com NONSGML v1.0//EN
BEGIN:VEVENT
UID:69e629728de89
DTSTAMP:20260420T152610
DTSTART:20200903T153000Z
DTEND:20200903T215900Z
LOCATION:
SUMMARY:Bydgoszcz - 03.09.2020 - szkolenie z Basią Domarus
DESCRIPTION: Zapraszamy na pierwsze po wakacjach spotkanie bydgoskich Mieszkanicznik&oacute;w. Spotykamy się&nbsp;3 września&nbsp;2020r. Rejestracja i networking rozpocznie o godz. 17.30\,  a spotkanie zaczynamy o godz. 18.00. We wrześniu naszym&nbsp;gościem&nbsp;i prelegentem będzie Basia Domarus autorka książek&nbsp;pt: "Champagne za dziewięć 5dziesiąt\,  czyli jak sprawić by klienci zabiegali o Ciebie" oraz "PAMIĘTNIK POD-R&Oacute;ŻNY\,  CZYLI W[..]
URL:https://mieszkanicznik.org.pl/events/bydgoszcz-03-09-2020-szkolenie-z-basia-domarus/
END:VEVENT
END:VCALENDAR