BEGIN:VCALENDAR
VERSION:2.0
PRODID:-//eventon.com NONSGML v1.0//EN
BEGIN:VEVENT
UID:69e76d468a05d
DTSTAMP:20260421T142750
DTSTART:20200506T170000Z
DTEND:20200506T190000Z
LOCATION:
SUMMARY:Jak stworzyć własną tarczę na rynku najmu - webinar
DESCRIPTION: &nbsp; &nbsp; W czasie pandemii nasz rząd zaproponował pomoc dla przedsiębiorc&oacute;w w postaci Tarczy antykryzysowej&rdquo;. Pierwsza wersja tarczy o nazwie &bdquo;Tarcza 1.0&rdquo; pojawiła się 31 marca 2020r.\,  a 17 kwietnia weszła w życie &bdquo;Tarcza 2.0&rdquo;. Przed nami &bdquo;Tarcza 3.0&rdquo;. Ile jeszcze będzie tarcz i jakie &bdquo;Newsy&rdquo; wniesie owa tarcza o[..]
URL:https://mieszkanicznik.org.pl/events/jak-stworzyc-wlasna-tarcze-na-rynku-najmu-webinar/
END:VEVENT
END:VCALENDAR