BEGIN:VCALENDAR
VERSION:2.0
PRODID:-//eventon.com NONSGML v1.0//EN
BEGIN:VEVENT
UID:69e51d71c0d2c
DTSTAMP:20260419T202241
DTSTART:20191114T160000Z
DTEND:20191114T190000Z
LOCATION:
SUMMARY:Katowice Mieszkanicznik: Ronald Szczepankiewicz!
DESCRIPTION: Witaj\,  serdecznie zapraszamy na listopadowe spotkanie Mieszkanicznik&oacute;w w Katowicach. Już 14 listopada naszym gościem będzie Ronald Szczepankiewicz! TEMAT:&nbsp; &bdquo;Mądre finansowanie flip&oacute;w i podnajm&oacute;w.&rdquo; Chcesz tanio i szybko finansować swoje inwestycje? Poznaj spos&oacute;b\,  w jaki myślą analitycy\,  kt&oacute;rzy decydują o tym czy otrzymasz kredyt.&nbsp;Znając zasady będziesz m&oacute;gł zyskać czas\,  a wiadomo[..]
URL:https://mieszkanicznik.org.pl/events/katowice-mieszkanicznik-ronald-szczepankiewicz/
END:VEVENT
END:VCALENDAR