BEGIN:VCALENDAR
VERSION:2.0
PRODID:-//eventon.com NONSGML v1.0//EN
BEGIN:VEVENT
UID:69e4cc2342368
DTSTAMP:20260419T143547
DTSTART:20191001T153000Z
DTEND:20191001T190000Z
LOCATION:
SUMMARY:Spotkanie Stowarzyszenia Mieszkanicznik - Kielce
DESCRIPTION: Serdecznie zapraszamy osoby zainteresowane tematem nieruchomości\,  na kolejne spotkanie kieleckiego oddziału Stowarzyszenia Mieszkanicznik. Tradycyjnie w pierwszy wtorek miesiąca\,  1 października 2019 w hotelu DAL - ul.Piotrkowska 12\,  p.1 sala A\,  godz. 17:30. ------------------------------------------------------------------ Temat: "Jak z sukcesem rozpocząć działalność deweloperską" ------------------------------------------------------------------ Naszym gościem będzie: Patryk Maciocha Inwestor na rynku nieruchomości[..]
URL:https://mieszkanicznik.org.pl/events/spotkanie-stowarzyszenia-mieszkanicznik-kielce-3/
END:VEVENT
END:VCALENDAR