BEGIN:VCALENDAR
VERSION:2.0
PRODID:-//eventon.com NONSGML v1.0//EN
BEGIN:VEVENT
UID:69e4fca541211
DTSTAMP:20260419T180245
DTSTART:20190212T154500Z
DTEND:20190212T184500Z
LOCATION:
SUMMARY:39 SMTB Magia home stagingu - jak możliwie najtaniej zwiększać wartość nieruchomości - Martyna Szczawińska
DESCRIPTION: Zaproszenie na 39-te spotkanie oddziału Stowarzyszenia Mieszkanicznik Toruń-Budgoszcz w Kujawsko-Pomorskim. &nbsp; Spotkania są otwarte dla wszystkich os&oacute;b. &nbsp; [Konieczna rejestracja] Jest mi niezwykle miło zaprosić wszystkich posiadających mieszkania\,  wynajmujących mieszkania i zamierzających kupić mieszkanie na spotkanie Mieszkanicznika\,  na kt&oacute;rym dowiemy się jak skutecznie zwiększać wartość swojej nieruchomości poprzez home staging.[..]
URL:https://mieszkanicznik.org.pl/events/39-smtb-magia-home-stagingu-jak-mozliwie-najtaniej-zwiekszac-wartosc-nieruchomosci-martyna-szczawinska/
END:VEVENT
END:VCALENDAR