BEGIN:VCALENDAR
VERSION:2.0
PRODID:-//eventon.com NONSGML v1.0//EN
BEGIN:VEVENT
UID:69e5f7fe2ce4b
DTSTAMP:20260420T115510
DTSTART:20181112T154500Z
DTEND:20181112T190000Z
LOCATION:
SUMMARY:Mieszkanicznik Szczecin - Bogacenie się poprzez handel mieszkaniami - flipy
DESCRIPTION: Serdecznie zapraszamy na październikowe spotkanie szczecińskiego oddziału Mieszkanicznik Tematem spotkania będzie: Jak skutecznie sprzedać lub wynająć mieszkanie. PRELEGENT Radosław Jaśkowiak &ndash; bydgoski przedsiębiorca\,  praktyk biznesu\,  rentier\,  specjalista w obrocie i wynajmie nieruchomości. Absolwent Wyższej Szkoły Gospodarki w Bydgoszczy.&nbsp; Wiedzę zdobywa u takich mentor&oacute;w jak: Brian Tracy\,  Piotr Hryniewicz\,  Wojciech Woźniczka\, [..]
URL:https://mieszkanicznik.org.pl/events/mieszkanicznik-szczecin-bogacenie-sie-poprzez-handel-mieszkaniami-flipy/
END:VEVENT
END:VCALENDAR