BEGIN:VCALENDAR
VERSION:2.0
PRODID:-//eventon.com NONSGML v1.0//EN
BEGIN:VEVENT
UID:69e6804525431
DTSTAMP:20260420T213637
DTSTART:20180928T170000Z
DTEND:20180928T203000Z
LOCATION:
SUMMARY:Wrześniowe spotkanie oddziału Łódź
DESCRIPTION: Zaczynamy nowy sezon spotkań!! Zapraszamy na wrześniowe spotkanie ł&oacute;dzkiego oddziału Stowarzyszenia Mieszkanicznik\,  kt&oacute;re odbędzie się w piątek 28 września o godz. 19.00 w&nbsp; Łodzi. Będzie ciekawie! Gościem spotkania będzie J&oacute;zef Kajta - od 12 lat zajmuje się wynajem mieszkań\,  bazując na swoim doświadczeniu założył &bdquo;Promabi&rdquo; &ndash; firmę zajmującą się obsługą[..]
URL:https://mieszkanicznik.org.pl/events/wrzesniowe-spotkanie-oddzialu-lodz/
END:VEVENT
END:VCALENDAR