BEGIN:VCALENDAR
VERSION:2.0
PRODID:-//eventon.com NONSGML v1.0//EN
BEGIN:VEVENT
UID:69e618ac85bda
DTSTAMP:20260420T141436
DTSTART:19691231T220000Z
DTEND:19691231T220000Z
LOCATION:
SUMMARY:Bydgoszcz - 03.09.2020 - szkolenie z Basią Domarus
DESCRIPTION: Zapraszamy na pierwsze po wakacjach spotkanie bydgoskich Mieszkaniczników. Spotykamy się 3 września 2020r. Rejestracja i networking rozpocznie o godz. 17.30\,  a spotkanie zaczynamy o godz. 18.00. We wrześniu naszym gościem i prelegentem będzie Basia Domarus autorka książek pt: "Champagne za dziewięć 5dziesiąt\,  czyli jak sprawić by klienci zabiegali o Ciebie" oraz "PAMIĘTNIK[..]
URL:https://mieszkanicznik.org.pl/bydgoszcz-03-09-2020-szkolenie-z-basia-domarus/
END:VEVENT
END:VCALENDAR