BEGIN:VCALENDAR
VERSION:2.0
PRODID:-//eventon.com NONSGML v1.0//EN
BEGIN:VEVENT
UID:69e75c57c2562
DTSTAMP:20260421T131535
DTSTART:19691231T220000Z
DTEND:19691231T220000Z
LOCATION:
SUMMARY:Jak stworzyć własną tarczę na rynku najmu - webinar
DESCRIPTION: Przed nami „Tarcza 3.0” ... Ile jeszcze będzie tarcz i jakie „Newsy” wniesie owa tarcza o tym już w najbliższą środę 06.05.2020 r. o godz. 19:00. Wspólnie z radcą prawnym Magdaleną Tylipską i Jackiem Kusiakiem - prezesem Stowarzyszenia Mieszkanicznik\,  ponownie pochylimy się na rozwiązaniami i realną korzyścią dla właścicieli mieszkań na[..]
URL:https://mieszkanicznik.org.pl/jak-stworzyc-wlasna-tarcze-na-rynku-najmu-webinar/
END:VEVENT
END:VCALENDAR